Workbook
Name Print_Area: Coordonnées!$A$1:$V$39

Sheet Macro-commandes
A1: =#REF! -> #REF! | C1: Administration communale de:
A3: Gestion informatique du document. | B3: Commandes :
A5: Cliquez sur la commande>>>
C7: Enregistré

Sheet Coordonnées
A1: Synthèse des Comptes | G1: Administration communale de Ramillies | U1: Code INS | V1: 25122
U2: Exercice: | V2: =R27 -> 2024
A3: Modèle officiel généré par l'application eComptes © SPW Intérieur et Action Sociale | U3: Version: | V3: 2
G7: S Y N T H È S E des C O M P T E S
G11: Module informatisé de publication des comptes annuels
C17: Administration communale de : | J17: RAMILLIES
C19: Adresse de l'administration: | J19: Avenue des Déportés, 48
J20: 1367 RAMILLIES
J21: www.ramillies.be
C23: Date d'arrêt du compte par le conseil: | J23: 30/07/2025
C25: Date d'approbation de la Tutelle: | J25: 10/10/2025
C27: Type document: | J27: Compte | O27: Exercice: | R27: 2024
C29: Directeur Général: | J29: Laurent NOËL
C30: Tél: | J30: 081 43.23.34
C31: Fax:
C32: Email: | J32: laurent.noel@ramillies.be
C34: Directeur Financier: | J34: Stéphan GODART
C35: Tél: | J35: 081 43.23.49
C36: Fax:
C37: Email: | J37: stephan.godart@ramillies.be

Sheet Résultats
A1: Synthèse des Comptes | G1: =Coordonnées!G1 -> Administration communale de Ramillies | W1: =Coordonnées!$U$1 -> Code INS | X1: =Coordonnées!V1 -> 25122
W2: =Coordonnées!$U$2 -> Exercice: | X2: =Coordonnées!V2 -> 2024
A3: Modèle officiel généré par l'application eComptes © SPW Intérieur et Action Sociale | W3: =Coordonnées!$U$3 -> Version: | X3: =Coordonnées!V3 -> 2
H6: Evolution du résultat budgétaire ordinaire
H7: =Coordonnées!$J$27 -> Compte | K7: =Coordonnées!$J$27 -> Compte | N7: =Coordonnées!$J$27 -> Compte | Q7: =Coordonnées!$J$27 -> Compte | T7: =Coordonnées!$J$27 -> Compte
A8: Exercices: | H8: =K8-1 -> 2020 | K8: =N8-1 -> 2021 | N8: =Q8-1 -> 2022 | Q8: =T8-1 -> 2023 | T8: =X2 -> 2024
A9: Résultats Exercice Propre* | H9: ='Ordinaire GE'!H26-'Ordinaire GE'!H15 -> 678279.99 | K9: ='Ordinaire GE'!K26-'Ordinaire GE'!K15 -> 410909.39 | N9: ='Ordinaire GE'!N26-'Ordinaire GE'!N15 -> 295564.07 | Q9: ='Ordinaire GE'!Q26-'Ordinaire GE'!Q15 -> 476017.34 | T9: ='Ordinaire GE'!T26-'Ordinaire GE'!T15 -> 197935.27
A10: Résultat global* (avec exercices antérieurs et prélèvements) | H10: ='Ordinaire GE'!H29-'Ordinaire GE'!H18 -> 2279503.2 | K10: ='Ordinaire GE'!K29-'Ordinaire GE'!K18 -> 1019332.8 | N10: ='Ordinaire GE'!N29-'Ordinaire GE'!N18 -> 1037370.8 | Q10: ='Ordinaire GE'!Q29-'Ordinaire GE'!Q18 -> 538487.16 | T10: ='Ordinaire GE'!T29-'Ordinaire GE'!T18 -> 453227.19
A11: * Montant arrondi à l'euro

Sheet Ordinaire GE
A1: Synthèse des Comptes | G1: =Coordonnées!G1 -> Administration communale de Ramillies | W1: =Coordonnées!$U$1 -> Code INS | X1: =Coordonnées!V1 -> 25122
W2: =Coordonnées!$U$2 -> Exercice: | X2: =Coordonnées!V2 -> 2024
A3: Modèle officiel généré par l'application eComptes © SPW Intérieur et Action Sociale | W3: =Coordonnées!$U$3 -> Version: | X3: =Coordonnées!V3 -> 2
H6: Ventilation économique des dépenses et des recettes ordinaires
H7: =Coordonnées!$J$27 -> Compte | K7: =Coordonnées!$J$27 -> Compte | N7: =Coordonnées!$J$27 -> Compte | Q7: =Coordonnées!$J$27 -> Compte | T7: =Coordonnées!$J$27 -> Compte
H8: Dépenses ordinaires (engagements actés aux comptes)
A9: Exercices: | H9: =K9-1 -> 2020 | K9: =N9-1 -> 2021 | N9: =Q9-1 -> 2022 | Q9: =T9-1 -> 2023 | T9: =X2 -> 2024
A10: Personnel | H10: 2508367.5 | I10: 5512664.3 | J10: 5512664.3 | K10: 2566292.4 | L10: 5512664.3 | M10: 5512664.3 | N10: 3056462.4 | O10: 5512664.3 | P10: 5512664.3 | Q10: 3705297.3 | R10: 5512664.3 | S10: 5512664.3 | T10: 4151635.2 | U10: 5512664.3 | V10: 5512664.3
A11: Fonctionnement | H11: 1439021.7 | I11: 2726342.7 | J11: 2726342.7 | K11: 1501484.2 | L11: 2726342.7 | M11: 2726342.7 | N11: 1625145.7 | O11: 2726342.7 | P11: 2726342.7 | Q11: 1711183.3 | R11: 2726342.7 | S11: 2726342.7 | T11: 1872222.4 | U11: 2726342.7 | V11: 2726342.7
A12: Transferts | H12: 1926096.7 | I12: 4264832 | J12: 4264832 | K12: 2019214.2 | L12: 4264832 | M12: 4264832 | N12: 2093220 | O12: 4264832 | P12: 4264832 | Q12: 2185058.1 | R12: 4264832 | S12: 4264832 | T12: 2331356.2 | U12: 4264832 | V12: 4264832
A13: Dette | H13: 9864.7 | I13: 41563.69 | J13: 41563.69 | K13: 13223.87 | L13: 41563.69 | M13: 41563.69 | N13: 13765.5 | O13: 41563.69 | P13: 41563.69 | Q13: 15424.54 | R13: 41563.69 | S13: 41563.69 | T13: 57150.06 | U13: 41563.69 | V13: 41563.69
A14: Prélèvements (hors 060) | H14: 0 | I14: 0 | J14: 0 | K14: 0 | L14: 0 | M14: 0 | N14: 0 | O14: 0 | P14: 0 | Q14: 477000 | R14: 0 | S14: 0 | T14: 686300 | U14: 0 | V14: 0
A15: Total (exercice propre)* | H15: =SUM(H10:H14) -> 5883350.6 | K15: =SUM(K10:K14) -> 6100214.6 | N15: =SUM(N10:N14) -> 6788593.7 | Q15: =SUM(Q10:Q14) -> 8093963.3 | T15: =SUM(T10:T14) -> 9098663.9
A16: Exercices antérieurs | H16: 50953.66 | I16: 1521059 | J16: 2351270.7 | K16: 165237.28 | L16: 1659060.8 | M16: 1521059 | N16: 136154.11 | O16: 2230351.9 | P16: 1659060.8 | Q16: 153598.63 | R16: 2351270.7 | S16: 2230351.9 | T16: 125736.78 | U16: 2351270.7 | V16: 2230351.9
A17: Prélèvements | H17: 1813941.8 | I17: 1192323.5 | J17: 824300.6 | K17: 1714571.1 | L17: 4295659.9 | M17: 1192323.5 | N17: 260000 | O17: 1045347.1 | P17: 4295659.9 | Q17: 1360000 | R17: 824300.6 | S17: 1045347.1 | T17: 549141.09 | U17: 824300.6 | V17: 1045347.1
A18: Total général* | H18: =SUM(H15:H17) -> 7748246 | K18: =SUM(K15:K17) -> 7980023 | N18: =SUM(N15:N17) -> 7184747.8 | Q18: =SUM(Q15:Q17) -> 9607561.9 | T18: =SUM(T15:T17) -> 9773541.8
A19: * Montant arrondi à l'euro
H20: Recettes ordinaires (Droits actés aux comptes)
A21: Exercices: | H21: =K21-1 -> 2020 | K21: =N21-1 -> 2021 | N21: =Q21-1 -> 2022 | Q21: =T21-1 -> 2023 | T21: =X2 -> 2024
A22: Prestation | H22: 184791.83 | I22: 373432.17 | J22: 697745.74 | K22: 213134.4 | L22: 373432.17 | M22: 697745.74 | N22: 335072.85 | O22: 373432.17 | P22: 697745.74 | Q22: 267755.15 | R22: 373432.17 | S22: 697745.74 | T22: 461521.18 | U22: 373432.17 | V22: 697745.74
A23: Transferts | H23: 6272120 | I23: 12728583 | J23: 13240575 | K23: 6093530.3 | L23: 12728583 | M23: 13240575 | N23: 6665180.5 | O23: 12728583 | P23: 13240575 | Q23: 8109897.5 | R23: 12728583 | S23: 13240575 | T23: 7692585.4 | U23: 12728583 | V23: 13240575
A24: Dette | H24: 104718.69 | I24: 548784.99 | J24: 408005.67 | K24: 104459.27 | L24: 548784.99 | M24: 408005.67 | N24: 83904.38 | O24: 548784.99 | P24: 408005.67 | Q24: 66938.21 | R24: 548784.99 | S24: 408005.67 | T24: 123800.37 | U24: 548784.99 | V24: 408005.67
A25: Prélèvements | H25: 0 | I25: 0 | J25: 0 | K25: 100000 | L25: 0 | M25: 0 | N25: 0 | O25: 0 | P25: 0 | Q25: 125389.78 | R25: 0 | S25: 0 | T25: 1018692.2 | U25: 0 | V25: 0
A26: Total (exercice propre)* | H26: =SUM(H22:H25) -> 6561630.6 | K26: =SUM(K22:K25) -> 6511124 | N26: =SUM(N22:N25) -> 7084157.7 | Q26: =SUM(Q22:Q25) -> 8569980.6 | T26: =SUM(T22:T25) -> 9296599.2
A27: Exercices antérieurs | H27: 3466118.6 | I27: 6001218.3 | J27: 5811470.1 | K27: 2488231.8 | L27: 6001218.3 | M27: 5811470.1 | N27: 1137960.8 | O27: 6001218.3 | P27: 5811470.1 | Q27: 1126068.4 | R27: 6001218.3 | S27: 5811470.1 | T27: 796388.85 | U27: 6001218.3 | V27: 5811470.1
A28: Prélèvements | H28: 0 | I28: 0 | J28: 0 | K28: 0 | L28: 0 | M28: 0 | N28: 0 | O28: 0 | P28: 0 | Q28: 450000 | R28: 0 | S28: 0 | T28: 133780.94 | U28: 0 | V28: 0
A29: Total général* | H29: =SUM(H26:H28) -> 10027749 | K29: =SUM(K26:K28) -> 8999355.8 | N29: =SUM(N26:N28) -> 8222118.6 | Q29: =SUM(Q26:Q28) -> 10146049 | T29: =SUM(T26:T28) -> 10226769
A30: * Montant arrondi à l'euro

Sheet Extraordinaire GE
A1: Synthèse des Comptes | G1: =Coordonnées!G1 -> Administration communale de Ramillies | W1: =Coordonnées!$U$1 -> Code INS | X1: =Coordonnées!$V$1 -> 25122
W2: =Coordonnées!$U$2 -> Exercice: | X2: =Coordonnées!$V$2 -> 2024
A3: Modèle officiel généré par l'application eComptes © SPW Intérieur et Action Sociale | W3: =Coordonnées!$U$3 -> Version: | X3: =Coordonnées!$V$3 -> 2
H6: Ventilation économique des dépenses et des recettes extraordinaires
H7: =Coordonnées!$J$27 -> Compte | K7: =Coordonnées!$J$27 -> Compte | N7: =Coordonnées!$J$27 -> Compte | Q7: =Coordonnées!$J$27 -> Compte | T7: =Coordonnées!$J$27 -> Compte
H8: Dépenses extraordinaires (engagements actés aux comptes)
A9: Exercices: | H9: =K9-1 -> 2020 | K9: =N9-1 -> 2021 | N9: =Q9-1 -> 2022 | Q9: =T9-1 -> 2023 | T9: =X2 -> 2024
A10: Transferts | H10: 45870.57 | I10: 5512664.3 | J10: 5512664.3 | K10: 0 | L10: 5512664.3 | M10: 5512664.3 | N10: 213378.13 | O10: 5512664.3 | P10: 5512664.3 | Q10: 80000 | R10: 5512664.3 | S10: 5512664.3 | T10: 0 | U10: 5512664.3 | V10: 5512664.3
A11: Investissements | H11: 5145112.1 | I11: 2726342.7 | J11: 2726342.7 | K11: 3585458.2 | L11: 2726342.7 | M11: 2726342.7 | N11: 1826244.1 | O11: 2726342.7 | P11: 2726342.7 | Q11: 1723213.6 | R11: 2726342.7 | S11: 2726342.7 | T11: 5555818.9 | U11: 2726342.7 | V11: 2726342.7
A12: Dette | H12: 0 | I12: 4264832 | J12: 4264832 | K12: 57813.65 | L12: 4264832 | M12: 4264832 | N12: 150843.66 | O12: 4264832 | P12: 4264832 | Q12: 66008.61 | R12: 4264832 | S12: 4264832 | T12: 66008.63 | U12: 4264832 | V12: 4264832
A13: Prélèvements | H13: 0 | I13: 41563.69 | J13: 41563.69 | K13: 0 | L13: 41563.69 | M13: 41563.69 | N13: 0 | O13: 41563.69 | P13: 41563.69 | Q13: 0 | R13: 41563.69 | S13: 41563.69 | T13: 0 | U13: 41563.69 | V13: 41563.69
H14: 0 | I14: 0 | J14: 0 | K14: 100000 | L14: 0 | M14: 0 | N14: 0 | O14: 0 | P14: 0 | Q14: 0 | R14: 0 | S14: 0 | T14: 0 | U14: 0 | V14: 0
A15: Total (exercice propre)* | H15: =SUM(H10:H14) -> 5190982.6 | K15: =SUM(K10:K14) -> 3743271.9 | N15: =SUM(N10:N14) -> 2190465.9 | Q15: =SUM(Q10:Q14) -> 1869222.2 | T15: =SUM(T10:T14) -> 5621827.5
A16: Exercices antérieurs | H16: 2243730.3 | I16: 1521059 | J16: 2351270.7 | K16: 4177412.2 | L16: 1659060.8 | M16: 1521059 | N16: 4330511.7 | O16: 2230351.9 | P16: 1659060.8 | Q16: 3116279.1 | R16: 2351270.7 | S16: 2230351.9 | T16: 1503442.6 | U16: 2351270.7 | V16: 2230351.9
A17: Prélèvements | H17: 268309.63 | I17: 1192323.5 | J17: 824300.6 | K17: 1171452.7 | L17: 4295659.9 | M17: 1192323.5 | N17: 1490375.6 | O17: 1045347.1 | P17: 4295659.9 | Q17: 487416.04 | R17: 824300.6 | S17: 1045347.1 | T17: 1392416.2 | U17: 824300.6 | V17: 1045347.1
A18: Total général* | H18: =SUM(H15:H17) -> 7703022.5 | K18: =SUM(K15:K17) -> 9092136.9 | N18: =SUM(N15:N17) -> 8011353.2 | Q18: =SUM(Q15:Q17) -> 5472917.4 | T18: =SUM(T15:T17) -> 8517686.3
A19: * Montant arrondi à l'euro
H20: Recettes extraordinaires (Droits actés aux comptes)
A21: Exercices: | H21: =K21-1 -> 2020 | K21: =N21-1 -> 2021 | N21: =Q21-1 -> 2022 | Q21: =T21-1 -> 2023 | T21: =X2 -> 2024
A22: Transferts | H22: 1713136.4 | I22: 373432.17 | J22: 697745.74 | K22: 69329.86 | L22: 365967.42 | M22: 373432.17 | N22: 1020995.1 | O22: 414709.37 | P22: 365967.42 | Q22: 1224216.5 | R22: 697745.74 | S22: 414709.37 | T22: 1774860 | U22: 557211.56 | V22: 577850.16
A23: Investissements | H23: 72360 | I23: 12728583 | J23: 13240575 | K23: 8 | L23: 12120372 | M23: 12728583 | N23: 776423.52 | O23: 12941518 | P23: 12120372 | Q23: 0 | R23: 13240575 | S23: 12941518 | T23: 6077 | U23: 13289627 | V23: 13396094
A24: Dette | H24: 0 | I24: 548784.99 | J24: 408005.67 | K24: 0 | L24: 536819.05 | M24: 548784.99 | N24: 928657.39 | O24: 344975.81 | P24: 536819.05 | Q24: 566973.05 | R24: 408005.67 | S24: 344975.81 | T24: 2264742.3 | U24: 128208.39 | V24: 26303.797
A25: Prélèvements | H25: 0 | I25: 0 | J25: 0 | K25: 0 | L25: 0 | M25: 0 | N25: 0 | O25: 0 | P25: 0 | Q25: 0 | R25: 0 | S25: 0 | T25: 0 | U25: 0 | V25: 0
A26: Total (exercice propre)* | H26: =SUM(H22:H25) -> 1785496.4 | K26: =SUM(K22:K25) -> 69337.86 | N26: =SUM(N22:N25) -> 2726076 | Q26: =SUM(Q22:Q25) -> 1791189.6 | T26: =SUM(T22:T25) -> 4045679.3
A27: Exercices antérieurs | H27: 3812891.8 | K27: 5040350 | L27: 10122962 | M27: 6628334.6 | N27: 4196029.6 | O27: 6248838.2 | P27: 10122962 | Q27: 2992815.3 | R27: 6834216 | S27: 6248838.2 | T27: 3245506.4 | U27: 6001218.3 | V27: 5811470.1
A28: Prélèvements | H28: 1815030.8 | I28: 0 | J28: 0 | K28: 3705591.6 | L28: 0 | M28: 0 | N28: 916281.81 | O28: 0 | P28: 0 | Q28: 1519290.2 | R28: 0 | S28: 0 | T28: 2201748.5 | U28: 0 | V28: 0
A29: Total général* | H29: =SUM(H26:H28) -> 7413418.9 | K29: =SUM(K26:K28) -> 8815279.5 | N29: =SUM(N26:N28) -> 7838387.4 | Q29: =SUM(Q26:Q28) -> 6303295.1 | T29: =SUM(T26:T28) -> 9492934.2
A30: * Montant arrondi à l'euro

Sheet DO fonctions
A1: =Coordonnées!A1 -> Synthèse des Comptes | E1: =Coordonnées!G1 -> Administration communale de Ramillies | I1: =Coordonnées!$U$1 -> Code INS | J1: =Coordonnées!$V$1 -> 25122
I2: =Coordonnées!$U$2 -> Exercice: | J2: =Coordonnées!$V$2 -> 2024
A3: =Coordonnées!A3 -> Modèle officiel généré par l'application eComptes © SPW Intérieur et Action Sociale | I3: =Coordonnées!$U$3 -> Version: | J3: =Coordonnées!$V$3 -> 2
E4: Ventilation fonctionnelle
E5: Evolution des dépenses ordinaires (exercice propre)
E6: =Coordonnées!$J$27 -> Compte | F6: =Coordonnées!$J$27 -> Compte | G6: =Coordonnées!$J$27 -> Compte | H6: =Coordonnées!$J$27 -> Compte | I6: =Coordonnées!$J$27 -> Compte
E7: =F7-1 -> 2020 | F7: =G7-1 -> 2021 | G7: =H7-1 -> 2022 | H7: =I7-1 -> 2023 | I7: =J2 -> 2024
A8: 0 Recettes et dépenses générales | E8: 1867481.4 | F8: 1765502.3 | G8: 307089.87 | H8: 1755569.1 | I8: 651319.28
A9: 1 Administration générale | E9: 1355506.5 | F9: 1400449.1 | G9: 1902551.1 | H9: 2176542.3 | I9: 2904313.5
A10: 3 Sécurité | E10: 840577.56 | F10: 829054.06 | G10: 760066.84 | H10: 846830.06 | I10: 896185.61
A11: 4 Voiries-communications | E11: 1247329.4 | F11: 1370086.8 | G11: 1316064.2 | H11: 1420823.5 | I11: 1605718.6
A12: 5 Industrie - commerce | E12: 12293.03 | F12: 26541.37 | G12: 28668.8 | H12: 21960.18 | I12: 23248.03
A13: 6 Sylviculture- Agriculture | E13: 4.11 | F13: 3342.62 | G13: 4860.57 | H13: 5275.9 | I13: 1565.83
A14: 70>75 Enseignement | E14: 567397.72 | F14: 569451.17 | G14: 723134.07 | H14: 795197.32 | I14: 868307.98
A15: 76>77 Culture et sports | E15: 92322.79 | F15: 167010.46 | G15: 174507.31 | H15: 281774.57 | I15: 286184.19
A16: 78 Radio, télévision, presse | E16: 0 | F16: 0 | G16: 0 | H16: 0 | I16: 0
A17: 79 Culte | E17: 46041.45 | F17: 36958.66 | G17: 31938.78 | H17: 49990.21 | I17: 55884.19
A18: 80>86 Action Sociale | E18: 876785.59 | F18: 923117.51 | G18: 1018505.6 | H18: 1202179 | I18: 1342723
A19: 87 Santé publique et hygiène | E19: 606686.26 | F19: 460781.47 | G19: 497988.18 | H19: 511072.49 | I19: 516443.23
... A21: 93 Aménagement du territoire | E21: 182918.22 | F21: 260469.85 | G21: 281642.87 | H21: 385927.48 | I21: 492252.77

Sheet RO fonctions
A1: =Coordonnées!A1 -> Synthèse des Comptes | E1: =Coordonnées!G1 -> Administration communale de Ramillies | I1: =Coordonnées!$U$1 -> Code INS | J1: =Coordonnées!$V$1 -> 25122
I2: =Coordonnées!$U$2 -> Exercice: | J2: =Coordonnées!$V$2 -> 2024
A3: =Coordonnées!A3 -> Modèle officiel généré par l'application eComptes © SPW Intérieur et Action Sociale | I3: =Coordonnées!$U$3 -> Version: | J3: =Coordonnées!$V$3 -> 2
E4: Ventilation fonctionnelle
E5: Evolution des recettes ordinaires (exercice propre)
E6: =Coordonnées!$J$27 -> Compte | F6: =Coordonnées!$J$27 -> Compte | G6: =Coordonnées!$J$27 -> Compte | H6: =Coordonnées!$J$27 -> Compte | I6: =Coordonnées!$J$27 -> Compte
E7: =F7-1 -> 2020 | F7: =G7-1 -> 2021 | G7: =H7-1 -> 2022 | H7: =I7-1 -> 2023 | I7: =J2 -> 2024
A8: 0 Recettes et dépenses générales | E8: 8967383.3 | F8: 7803753.6 | G8: 7206946.5 | H8: 9166451.1 | I8: 8916497
A9: 1 Administration générale | E9: 144549.77 | F9: 210968.54 | G9: 267137.25 | H9: 122448.57 | I9: 253804.24
A10: 3 Sécurité | E10: 67602.27 | F10: 0 | G10: 0 | H10: 0 | I10: 30000
A11: 4 Voiries-communications | E11: 250616.59 | F11: 270585.93 | G11: 50107.21 | H11: 46681.72 | I11: 15261.23
A12: 5 Industrie - commerce | E12: 167851.2 | F12: 266823.03 | G12: 154688.23 | H12: 109803.17 | I12: 164951.92
A13: 6 Sylviculture- Agriculture | E13: 15555.19 | F13: 15741.28 | G13: 17035.72 | H13: 18394.8 | I13: 20327.7
A14: 70>75 Enseignement | E14: 312708.28 | F14: 291849.47 | G14: 342666.11 | H14: 380655.01 | I14: 345702.11
A15: 76>77 Culture et sports | E15: 6969.53 | F15: 30656 | G15: 37672.67 | H15: 75542.81 | I15: 69714.54
A16: 78 Radio, télévision, presse | E16: 0 | F16: 0 | G16: 0 | H16: 0 | I16: 0
A17: 79 Culte | E17: 1008.37 | F17: 1008.36 | G17: 1046.72 | H17: 1082.47 | I17: 1076.79
A18: 80>86 Action Sociale | E18: 20826.94 | F18: 39268.78 | G18: 41656.09 | H18: 136436.67 | I18: 170279.11
A19: 87 Santé publique et hygiène | E19: 23457.7 | F19: 27746 | G19: 21763.3 | H19: 14128.04 | I19: 32171.6
... A21: 93 Aménagement du territoire | E21: 46900 | F21: 22000 | G21: 24500 | H21: 63600 | I21: 74500

Sheet DE fonctions
A1: =Coordonnées!A1 -> Synthèse des Comptes | E1: =Coordonnées!G1 -> Administration communale de Ramillies | I1: =Coordonnées!$U$1 -> Code INS | J1: =Coordonnées!$V$1 -> 25122
I2: =Coordonnées!$U$2 -> Exercice: | J2: =Coordonnées!$V$2 -> 2024
A3: =Coordonnées!A3 -> Modèle officiel généré par l'application eComptes © SPW Intérieur et Action Sociale | I3: =Coordonnées!$U$3 -> Version: | J3: =Coordonnées!$V$3 -> 2
E4: Ventilation fonctionnelle
E5: Evolution des dépenses extraordinaires (exercice propre)
E6: =Coordonnées!$J$27 -> Compte | F6: =Coordonnées!$J$27 -> Compte | G6: =Coordonnées!$J$27 -> Compte | H6: =Coordonnées!$J$27 -> Compte | I6: =Coordonnées!$J$27 -> Compte
E7: =F7-1 -> 2020 | F7: =G7-1 -> 2021 | G7: =H7-1 -> 2022 | H7: =I7-1 -> 2023 | I7: =J2 -> 2024
A8: 0 Recettes et dépenses générales | E8: 282004.68 | F8: 1271452.7 | G8: 1521855.6 | H8: 487416.04 | I8: 1392416.2
A9: 1 Administration générale | E9: 91746.35 | F9: 521197.39 | G9: 1078242.4 | H9: 489185.99 | I9: 2838785.2
A10: 3 Sécurité | E10: 0 | F10: 0 | G10: 0 | H10: 0 | I10: 0
A11: 4 Voiries-communications | E11: 203036.19 | F11: 427302.89 | G11: 662329.71 | H11: 997112.82 | I11: 2007000.3
A12: 5 Industrie - commerce | E12: 0 | F12: 31756.45 | G12: 84760 | H12: 27990 | I12: 29888.91
A13: 6 Sylviculture- Agriculture | E13: 0 | F13: 0 | G13: 0 | H13: 0 | I13: 0
A14: 70>75 Enseignement | E14: 1230972.2 | F14: 65442.68 | G14: 23033.57 | H14: 33967.28 | I14: 138398.32
A15: 76>77 Culture et sports | E15: 3254077 | F15: 301555.01 | G15: 10450.41 | H15: 53571.98 | I15: 0
A16: 78 Radio, télévision, presse | E16: 0 | F16: 0 | G16: 0 | H16: 0 | I16: 0
A17: 79 Culte | E17: 25958.01 | F17: 14768.05 | G17: 1898.13 | H17: 0 | I17: 20242.09
A18: 80>86 Action Sociale | E18: 40880.11 | F18: 1808125.4 | G18: 198599.45 | H18: 15102.74 | I18: 254280.01
A19: 87 Santé publique et hygiène | E19: 330617.75 | F19: 375779.52 | G19: 97451.84 | H19: 252291.41 | I19: 317292.87
... A21: 93 Aménagement du territoire | E21: 0 | F21: 97344.5 | G21: 2220.35 | H21: 0 | I21: 15939.82

Sheet RE fonctions
A1: =Coordonnées!A1 -> Synthèse des Comptes | E1: =Coordonnées!G1 -> Administration communale de Ramillies | I1: =Coordonnées!$U$1 -> Code INS | J1: =Coordonnées!$V$1 -> 25122
I2: =Coordonnées!$U$2 -> Exercice: | J2: =Coordonnées!$V$2 -> 2024
A3: =Coordonnées!A3 -> Modèle officiel généré par l'application eComptes © SPW Intérieur et Action Sociale | I3: =Coordonnées!$U$3 -> Version: | J3: =Coordonnées!$V$3 -> 2
E4: Ventilation fonctionnelle
E5: Evolution des recettes extraordinaires (exercice propre)
E6: =Coordonnées!$J$27 -> Compte | F6: =Coordonnées!$J$27 -> Compte | G6: =Coordonnées!$J$27 -> Compte | H6: =Coordonnées!$J$27 -> Compte | I6: =Coordonnées!$J$27 -> Compte
E7: =F7-1 -> 2020 | F7: =G7-1 -> 2021 | G7: =H7-1 -> 2022 | H7: =I7-1 -> 2023 | I7: =J2 -> 2024
A8: 0 Recettes et dépenses générales | E8: 5027740.8 | F8: 8045941.6 | G8: 5716268.9 | H8: 4430209.5 | I8: 5056581.5
A9: 1 Administration générale | E9: 72360 | F9: 8 | G9: 1476423.5 | H9: 32088 | I9: 2570306.9
A10: 3 Sécurité | E10: 0 | F10: 0 | G10: 0 | H10: 0 | I10: 0
A11: 4 Voiries-communications | E11: 40000 | F11: 19329.86 | G11: 645694.91 | H11: 969747.28 | I11: 812104.43
A12: 5 Industrie - commerce | E12: 0 | F12: 15000 | G12: 0 | H12: 52735.29 | I12: 15000
A13: 6 Sylviculture- Agriculture | E13: 0 | F13: 0 | G13: 0 | H13: 0 | I13: 0
A14: 70>75 Enseignement | E14: 960471.68 | F14: 35000 | G14: 0 | H14: 32250.35 | I14: 0
A15: 76>77 Culture et sports | E15: 712664.72 | F15: 0 | G15: 0 | H15: 674419.85 | I15: 30000
A16: 78 Radio, télévision, presse | E16: 0 | F16: 0 | G16: 0 | H16: 0 | I16: 0
A17: 79 Culte | E17: 0 | F17: 0 | G17: 0 | H17: 0 | I17: 0
A18: 80>86 Action Sociale | E18: 0 | F18: 0 | G18: 0 | H18: 0 | I18: 618268.03
A19: 87 Santé publique et hygiène | E19: 0 | F19: 0 | G19: 0 | H19: 0 | I19: 0
... A21: 93 Aménagement du territoire | E21: 0 | F21: 0 | G21: 0 | H21: 0 | I21: 0

Sheet Actif
A1: =Coordonnées!A1 -> Synthèse des Comptes | C1: =Coordonnées!G1 -> Administration communale de Ramillies | J1: =Coordonnées!$U$1 -> Code INS | K1: =Coordonnées!$V$1 -> 25122
J2: =Coordonnées!$U$2 -> Exercice: | K2: =Coordonnées!$V$2 -> 2024
A3: =Coordonnées!A3 -> Modèle officiel généré par l'application eComptes © SPW Intérieur et Action Sociale | J3: =Coordonnées!$U$3 -> Version: | K3: =Coordonnées!$V$3 -> 2
A6: B I L A N | E6: Codes | F6: =K2 -> 2024 | H6: =F6-1 -> 2023
C8: A C T I F
A10: ACTIFS IMMOBILISES | E10: 21/28 | F10: =F12+F14+F29+F35+F39 -> 38233377 | H10: =H12+H14+H29+H35+H39 -> 35716225
A12: I . | B12: Immobilisations incorporelles | E12: 21 | F12: 86177.44 | H12: 970.93
A14: II. | B14: Immobilisations corporelles | E14: 22/26 | F14: =SUM(F16:F27) -> 31079462 | H14: =SUM(H16:H27) -> 29854356
B15: Patrimoine immobilier
B16: A. | C16: Terres et terrains non bâtis ............................................................................... | E16: 220 | F16: 3360494.2 | H16: 2336989.7
B17: B. | C17: Constructions et leurs terrains ........................................................................... | E17: 221 | F17: 9166584.1 | H17: 5763562.8
B18: C. | C18: Voiries ......................................................................................................................... | E18: 223 | F18: 7860086.5 | H18: 6371874.8
B19: D. | C19: Ouvrages d'art ............................................................................................................. | E19: 224 | F19: 191667.34 | H19: 202836.4
B20: E. | C20: Cours et plans d'eau ...................................................................... | E20: 226 | F20: 302185.57 | H20: 298434.4
B21: Patrimoine mobilier
B22: F. | C22: Mobilier, matériel, équipements et signalisation routière............................................................. | E22: 230/3 | F22: 1166243.9 | H22: 1010994.6
B23: G. | C23: Patrimoine artistique et mobilier divers ................................................................. | E23: 234 | F23: 3585.23 | H23: 0
B24: Autres immobilisations corporelles
B25: H. | C25: Immobilisations en cours d'exécution ................................................................... | E25: 24 | F25: 9028615.4 | H25: 13869663
B26: I. | C26: Droits réels d'emphythéoses et superficies..................................................... .................................. .................... | E26: 261 | F26: 0 | H26: 0
B27: J. | C27: Immobilisations en location-financement .............................................. ............................ | E27: 262/3 | F27: 0 | H27: 0
A29: III. | B29: Subsides d'investissements accordés | E29: 25 | F29: =SUM(F30:F33) -> 244536.24 | H29: =SUM(H30:H33) -> 276976.48
B30: A. | C30: Aux entreprises privées ..................................................................................... ..................... | E30: 251 | F30: 759.25 | H30: 1138.87
B31: B. | C31: Aux ménages, ASBL et autres organismes ............................................... ........................ | E31: 252 | F31: 138735.22 | H31: 161011.41
B32: C. | C32: A l'Autorité supérieure......................................................................................... ..................... | E32: 254 | F32: 0 | H32: 0
B33: D. | C33: Aux autres pouvoirs publics ................................................................ ................................... | E33: 256 | F33: 105041.77 | H33: 114826.2
A35: IV. | B35: Promesses de subsides à recevoir, prêts | E35: 27 | F35: =SUM(F36:F37) -> 3665175.9 | H35: =SUM(H36:H37) -> 2673541.2
B36: A. | C36: Promesse de subsides à recevoir.................................................. ...................................... | E36: 270/4 | F36: 3635175.9 | H36: 2643541.2
B37: B. | C37: Prêts accordés ............................................................................ ............................................. | E37: 275 | F37: 30000 | H37: 30000
A39: V. | B39: Immobilisations financières | E39: 28 | F39: =SUM(F40:F41) -> 3158025.1 | H39: =SUM(H40:H41) -> 2910380.5
B40: A. | C40: Participations et titres à revenus fixes ................................................................ | E40: 282/5 | F40: 3158025.1 | H40: 2910380.5
B41: B. | C41: Cautionnements versés à plus d'un an ............................................................. | E41: 288 | F41: 0 | H41: 0
A43: ACTIFS CIRCULANTS | E43: 30/58 | F43: =F45+F47+F57+F59 -> 7221688.3 | H43: =H45+H47+H57+H59 -> 7897708.6
A45: VI. | B45: Stocks | E45: 301 | F45: 0 | H45: 0
A47: VII. | B47: Créances à un an au plus | E47: 40/42 | F47: =F48+F49 -> 4042450.3 | H47: =H48+H49 -> 3801600.4
B48: A. | C48: Débiteurs ................................................................................................................................................ | E48: 40 | F48: 758902.12 | H48: 636221.43
B49: B. | C49: Autres créances...................................................................................................................................... | E49: 41/42 | F49: =SUM(F50:F55) -> 3283548.2 | H49: =SUM(H50:H55) -> 3165379
C50: 1. T.V.A. et taxes additionnelles .......................................................................................................... | E50: 411/2 | F50: 51332.44 | H50: 62921.52
C51: 2. Subsides, dons et legs et emprunts ............................................................................................. | E51: 413 | F51: 2392723 | H51: 2389448
C52: 3. Intérêts, dividendes et ristournes .................................................................................................. | E52: 415 | F52: 103469.18 | H52: 8177.1
...

Sheet Passif
A1: =Coordonnées!A1 -> Synthèse des Comptes | C1: =Coordonnées!G1 -> Administration communale de Ramillies | J1: =Coordonnées!$U$1 -> Code INS | K1: =Coordonnées!$V$1 -> 25122
J2: =Coordonnées!$U$2 -> Exercice: | K2: =Coordonnées!$V$2 -> 2024
A3: =Coordonnées!A3 -> Modèle officiel généré par l'application eComptes © SPW Intérieur et Action Sociale | J3: =Coordonnées!$U$3 -> Version: | K3: =Coordonnées!$V$3 -> 2
C6: B I L A N | E6: Codes | F6: =K2 -> 2024 | H6: =F6-1 -> 2023
C8: P A S S I F
C10: FONDS PROPRES | E10: 10/16 | F10: =F12+F14+F16+F21+F25+F31 -> 40136708 | H10: =H12+H14+H16+H21+H25+H31 -> 39156830
A12: I'. | B12: Capital | E12: 10 | F12: 9269160.6 | H12: 9269160.6
A14: II'. | B14: Résultats capitalisés | E14: 12 | F14: 15239569 | H14: 14190921
A16: III'. | B16: Résultats reportés | E16: 13 | F16: =SUM(F17:F19) -> 738605.14 | H16: =SUM(H17:H19) -> 1417652.1
B17: A'. | C17: Des exercices antérieurs............................................................................................... | E17: 1301 | F17: -459627.66 | H17: 1048648
B18: B'. | C18: De l'exercice précédent............................................................................................... | E18: 1302 | F18: 828631.77 | H18: -459627.66
B19: C'. | C19: Du dernier exercice..................................................................................................... | E19: 1303 | F19: 369601.03 | H19: 828631.77
A21: IV'. | B21: Réserves | E21: 14 | F21: =SUM(F22:F23) -> 2704463 | H21: =SUM(H22:H23) -> 3640127.4
B22: A'. | C22: Fonds de réserve ordinaire....................................................................................... | E22: 14104 | F22: 10000 | H22: 283780.94
B23: B'. | C23: Fonds de réserve extraordinaire................................................................................. | E23: 14105 | F23: 2694463 | H23: 3356346.5
A25: V'. | B25: Subsides d'investissement, dons et legs reçus | E25: 15 | F25: =SUM(F26:F29) -> 11498610 | H25: =SUM(H26:H29) -> 10161968
B26: A'. | C26: Des entreprises privées ............................................................................................. | E26: 151 | F26: 1301883.9 | H26: 853246.72
B27: B'. | C27: Des ménages, des A.S.B.L. et autres organismes ....................................................... | E27: 152 | F27: 489945.51 | H27: 517164.7
B28: C'. | C28: De l'Autorité supérieure .............................................................................................. | E28: 154 | F28: 6597852.3 | H28: 5529137.1
B29: D'. | C29: Des autres pouvoirs publics ..................................................................................... | E29: 156 | F29: 3108928 | H29: 3262419.7
A31: VI'. | B31: Provisions pour risques et charges | E31: 16 | F31: 686300 | H31: 477000
A33: DETTES | E33: 17/49 | F33: =F35+F44+F53 -> 5368106.8 | H33: =H35+H44+H53 -> 4297674.4
A35: VII'. | B35: Dettes à plus d'un an | E35: 17 | F35: =SUM(F36:F42) -> 3801816.2 | H35: =SUM(H36:H42) -> 1640423.2
B36: A'. | C36: Emprunts à charge de la commune ...................................................... | E36: 171/5 | F36: 3724344.2 | H36: 1555637.1
B37: B'. | C37: Emprunts à charge de l'Autorité supérieure............................................ | E37: 1714 | F37: 77472.06 | H37: 84786.16
B38: C'. | C38: Emprunts à charge de tiers.................................................................. | E38: 172 | F38: 0 | H38: 0
B39: D'. | C39: Dettes de location-financement............................................................ | E39: 174 | F39: 0 | H39: 0
B40: E'. | C40: Emprunts publics ............................................................................... | E40: 176 | F40: 0 | H40: 0
B41: F'. | C41: Dettes diverses à plus d'un an............................................................. | E41: 177 | F41: 0 | H41: 0
B42: G'. | C42: Garanties reçues à plus d'un an............................................................ | E42: 178 | F42: 0 | H42: 0
A44: VIII'. | B44: Dettes à un an au plus | E44: 43/6 | F44: =F45+SUM(F49:F51) -> 1543796.1 | H44: =H45+SUM(H49:H51) -> 2625878.6
B45: A'. | C45: Dettes financières................................................................................ | E45: 43 | F45: =SUM(F46:F48) -> 103375.07 | H45: =SUM(H46:H48) -> 13534.58
C46: 1'. Remboursements d'emprunts .......................................................... | E46: 435 | F46: 102505.9 | H46: 12590.01
C47: 2'. Charges financières des emprunts ................................................... | E47: 436 | F47: 869.17 | H47: 944.57
C48: 3'. Dettes sur comptes-courants........................................................... | E48: 433 | F48: 0 | H48: 0
B49: B'. | C49: Dettes commerciales .......................................................................... | E49: 44 | F49: 1542863 | H49: 2340882.2
B50: C'. | C50: Dettes fiscales, salariales et sociales ................................................................................................ | E50: 45 | F50: -169049.32 | H50: -8676.41
B51: D'. | C51: Dettes diverses .................................................................................. | E51: 464/7 | F51: 66607.41 | H51: 280138.22
A53: IX'. | B53: Opérations pour compte de tiers | E53: 48/P | F53: 22494.42 | H53: 31372.54
A55: X'. | B55: Comptes de régularisation et d'attente | E55: 49/P | F55: 18176.66 | H55: 219729.77
...

Sheet Charges
A1: =Coordonnées!A1 -> Synthèse des Comptes | C1: =Coordonnées!G1 -> Administration communale de Ramillies | J1: =Coordonnées!$U$1 -> Code INS | K1: =Coordonnées!$V$1 -> 25122
J2: =Coordonnées!$U$2 -> Exercice: | K2: =Coordonnées!$V$2 -> 2024
A3: =Coordonnées!A3 -> Modèle officiel généré par l'application eComptes © SPW Intérieur et Action Sociale | J3: =Coordonnées!$U$3 -> Version: | K3: =Coordonnées!$V$3 -> 2
E5: Codes | F5: =K2 -> 2024 | H5: =F5-1 -> 2023
C6: COMPTE DE RESULTATS
A8: I. | B8: Charges courantes
B9: A. | C9: Achats de matières .............................................................................................. | E9: 60 | F9: 334898.43 | H9: 312359.21
B10: B. | C10: Services et biens d'exploitation ......................................................................... | E10: 61 | F10: 1527127.5 | H10: 1376975.4
B11: C. | C11: Frais de personnel .............................................................................................. | E11: 62 | F11: 4178350.1 | H11: 3764531.5
B12: D. | C12: Subsides d'exploitation accordés ................................................................... | E12: 63 | F12: 2329372.7 | H12: 2168818.7
B13: E. | C13: Remboursements des emprunts ................................................................... | E13: 64 | F13: 12590.01 | H13: 7011.91
B14: F. | C14: Charges financières | E14: 65 | F14: =SUM(F15:F17) -> 44610.05 | H14: =SUM(H15:H17) -> 8586.53
C15: a. Charges financières des emprunts ........................................................... | E15: 651/6 | F15: 42335.38 | H15: 3856.38
C16: b. Charges financières diverses .................................................................... | E16: 657 | F16: 2224.67 | H16: 4556.25
C17: c. Frais de la gestion financière ..................................................................... | E17: 658 | F17: 50 | H17: 173.9
A19: II. | B19: Sous-total (charges courantes) | E19: 60/65 | F19: =SUM(F9:F14) -> 8426948.8 | H19: =SUM(H9:H14) -> 7638283.3
A21: III. | B21: Boni courant (II' - II) | F21: =IF(Charges!F19<Produits!F19,Produits!F19-Charges!F19,0) -> 0 | H21: =IF(Charges!H19<Produits!H19,Produits!H19-Charges!H19,0) -> 761159.06
A23: IV. | B23: Charges résultant de la variation normale des valeurs de bilan, redressements et provisions
B25: A. | C25: Dotations aux amortissements ......................................................................... | E25: 660 | F25: 1195027.7 | H25: 831451.78
B26: B. | C26: Réductions annuelles de valeurs ..................................................................... | E26: 661 | F26: 0 | H26: 0
B27: C. | C27: Réductions et variations des stocks ............................................................... | E27: 662/4 | F27: 0 | H27: 0
B28: D. | C28: Redressement des récupérations des
C29: remboursements d'emprunts ........................................................................... | E29: 665 | F29: 7160.39 | H29: 7011.91
B30: E. | C30: Provisions pour risques et charges ............................................................... | E30: 666 | F30: 209300 | H30: 477000
B31: F. | C31: Dotations aux amortissements des subsides
C32: d'investissement accordés ............................................................................... | E32: 667 | F32: 32440.24 | H32: 32740.25
A34: V. | B34: Sous-total (charges non décaissées) | E34: 66 | F34: =SUM(F25:F32) -> 1443928.4 | H34: =SUM(H25:H32) -> 1348203.9
A36: VI. | B36: Total des charges d'exploitation (II + V) | E36: 60/66 | F36: =F19+F34 -> 9870877.2 | H36: =H19+H34 -> 8986487.2
A38: VII. | B38: Boni d'exploitation (VI' - VI) | F38: =IF(Charges!F36<Produits!F33,Produits!F33-Charges!F36,0) -> 0 | H38: =IF(Charges!H36<Produits!H33,Produits!H33-Charges!H36,0) -> 405003.8
A40: VIII. | B40: Charges exceptionnelles
B41: A. | C41: Du service ordinaire ............................................................................................ | E41: 671 | F41: 1435.45 | H41: 6806.87
B42: B. | C42: Du service extraordinaire .................................................................................. | E42: 672 | F42: 0 | H42: 0
B43: C. | C43: Charges exceptionnelles non budgétées ..................................................... | E43: 673 | F43: 0 | H43: 0
C44: Sous-total (charges exceptionnelles) | E44: 67 | F44: =SUM(F41:F43) -> 1435.45 | H44: =SUM(H41:H43) -> 6806.87
A46: IX. | B46: Dotations aux réserves
B47: A. | C47: Du service ordinaire ......................................................................................... | E47: 685 | F47: 549141.09 | H47: 1360000
B48: B. | C48: Du service extraordinaire ................................................................................ | E48: 686 | F48: 1392416.2 | H48: 1087597.8
C49: Sous-total des dotations aux réserves | E49: 68 | F49: =SUM(F47:F48) -> 1941557.3 | H49: =SUM(H47:H48) -> 2447597.8
A51: X. | B51: Total des charges exceptionnelles et des dotations aux réserves (VIII + IX)
E52: 67/68 | F52: =F44+F49 -> 1942992.7 | H52: =H44+H49 -> 2454404.6
...

Sheet Produits
A1: =Coordonnées!A1 -> Synthèse des Comptes | C1: =Coordonnées!G1 -> Administration communale de Ramillies | J1: =Coordonnées!$U$1 -> Code INS | K1: =Coordonnées!$V$1 -> 25122
J2: =Coordonnées!$U$2 -> Exercice: | K2: =Coordonnées!$V$2 -> 2024
A3: =Coordonnées!A3 -> Modèle officiel généré par l'application eComptes © SPW Intérieur et Action Sociale | J3: =Coordonnées!$U$3 -> Version: | K3: =Coordonnées!$V$3 -> 2
E5: Codes | F5: =K2 -> 2024 | H5: =F5-1 -> 2023
A6: COMPTE DE RESULTATS
A8: I'. | B8: Produits courants
B9: A'. | C9: Produits de la fiscalité .......................................................................... | E9: 70 | F9: 5135970.8 | H9: 5550218
B10: B'. | C10: Produits d'exploitation ......................................................................... | E10: 71 | F10: 521999.96 | H10: 295053.39
B11: C'. | C11: Subsides d'exploitation reçus et récupérations de
C12: charges de personnel ........................................................................... | E12: 72/73 | F12: 2503651.7 | H12: 2476109.4
B13: D'. | C13: Récupération des remboursements d'emprunts ....................................... | E13: 74 | F13: 7160.39 | H13: 7011.91
B14: E'. | C14: Produits financiers | E14: 75 | F14: =SUM(F16:F17) -> 219198.21 | H14: =SUM(H16:H17) -> 71049.6
C15: a'. Récupération des charges financières des
C16: emprunts et des prêts accordés ...................................................................... | E16: 751/5 | F16: 3565.23 | H16: 3848.79
C17: b' Produits financiers divers ................................................................ | E17: 754/7 | F17: 215632.98 | H17: 67200.81
A19: II'. | B19: Sous-total (produits courants) | E19: 70/75 | F19: =SUM(F9:F14) -> 8387981 | H19: =SUM(H9:H14) -> 8399442.3
A21: III'. | B21: Mali courant (II - II') | F21: =IF(Charges!F19>Produits!F19,Charges!F19-Produits!F19,0) -> 38967.81 | H21: =IF(Charges!H19>Produits!H19,Charges!H19-Produits!H19,0) -> 0
A23: IV'. | B23: Produits résultant de la variation normale des valeurs de bilan, redressements, travaux internes
B25: A'. | C25: Plus-values annuelles .......................................................................... | E25: 761 | F25: 224258.76 | H25: 459037.69
B26: B'. | C26: Variations des stocks .......................................................................... | E26: 764 | F26: 0 | H26: 0
B27: C'. | C27: Redressement des cptes des remb. des emprunts ........... | E27: 765 | F27: 12590.01 | H27: 7011.91
B28: D'. | C28: Réductions des subsides d'investissement, des dons et legs obtenus .................................................................. | E28: 767 | F28: 622986.65 | H28: 525999.08
B29: E'. | C29: Travaux internes passés à l'immobilisé ................................................... | E29: 769 | F29: 0 | H29: 0
A31: V'. | B31: Sous-total (produits non encaissés) | E31: 76 | F31: =SUM(F25:F29) -> 859835.42 | H31: =SUM(H25:H29) -> 992048.68
A33: VI'. | B33: Total des produits d'exploitation (II' + V') | E33: 70/76 | F33: =F19+F31 -> 9247816.4 | H33: =H19+H31 -> 9391491
A35: VII'. | B35: Mali d'exploitation (VI - VI') | F35: =IF(Charges!F36>Produits!F33,Charges!F36-Produits!F33,0) -> 623060.76 | H35: =IF(Charges!H36>Produits!H33,Charges!H36-Produits!H33,0) -> 0
A37: VIII'. | B37: Produits exceptionnels
B38: A'. | C38: Du service ordinaire ............................................................................. | E38: 771 | F38: 22355.88 | H38: 55973.22
B39: B'. | C39: Du service extraordinaire ....................................................................... | E39: 772 | F39: 36077 | H39: 727379.36
B40: C'. | C40: Produits exceptionnels non budgétés ................................................ | E40: 773 | F40: 0 | H40: 0
C42: Sous-total (produits exceptionnels) | E42: 77 | F42: =SUM(F38:F40) -> 58432.88 | H42: =SUM(H38:H40) -> 783352.58
A44: IX'. | B44: Prélèvements sur les réserves
B45: A'. | C45: Du service ordinaire ............................................................................. | E45: 785 | F45: 675473.12 | H45: 575389.78
B46: B'. | C46: Du service extraordinaire ....................................................................... | E46: 786 | F46: 2201748.5 | H46: 1519290.2
C48: Sous-total des prélèvements sur réserves | E48: 78 | F48: =SUM(F45:F46) -> 2877221.6 | H48: =SUM(H45:H46) -> 2094680
A50: X'. | B50: Total des produits exceptionnels et des
B51: prélèvements sur réserves (VIII' + IX') | E51: 77/78 | F51: =F42+F48 -> 2935654.5 | H51: =H42+H48 -> 2878032.6
A53: XI'. | B53: Mali exceptionnel (X - X') | F53: =IF(Charges!F52>Produits!F51,Charges!F52-Produits!F51,0) -> 0 | H53: =IF(Charges!H52>Produits!H51,Charges!H52-Produits!H51,0) -> 0
A55: XII'. | B55: Total des produits (VI' + X') | F55: =F33+F51 -> 12183471 | H55: =H33+H51 -> 12269524
A57: XIII'. | B57: Mali de l'exercice (XII - XII') | F57: =IF(Charges!F56>Produits!F55,Charges!F56-Produits!F55,0) -> 0 | H57: =IF(Charges!H56>Produits!H55,Charges!H56-Produits!H55,0) -> 0
...

Sheet Commentaires
A1: Synthèse des Comptes | G1: =Coordonnées!G1 -> Administration communale de Ramillies | X1: =Coordonnées!$U$1 -> Code INS | Y1: =Coordonnées!$V$1 -> 25122
X2: =Coordonnées!$U$2 -> Exercice: | Y2: =Coordonnées!$V$2 -> 2024
A3: Modèle officiel généré par l'application eComptes © SPW Intérieur et Action Sociale | X3: =Coordonnées!$U$3 -> Version: | Y3: =Coordonnées!$V$3 -> 2
A6: Commentaires

Sheet Glossaire
A1: =Coordonnées!A1 -> Synthèse des Comptes | G1: =Coordonnées!G1 -> Administration communale de Ramillies | X1: =Coordonnées!$U$1 -> Code INS | Y1: =Coordonnées!$V$1 -> 25122
X2: =Coordonnées!$U$2 -> Exercice: | Y2: =Coordonnées!$V$2 -> 2024
A3: =Coordonnées!A3 -> Modèle officiel généré par l'application eComptes © SPW Intérieur et Action Sociale | X3: =Coordonnées!$U$3 -> Version: | Y3: =Coordonnées!$V$3 -> 2
A6: Glossaire
A8: Termes | F8: Définitions:
A9: Exercice propre | F9: L'exercice du document allant du 1er janvier au 31 décembre
A10: Exercices antérieurs | F10: Les opérations antérieures à l'exercice propre
A11: Résultat global | F11: Le boni ou le mali de l'exercice propre cumulé avec celui des exercices antérieurs
A12: Dépenses de transfert | F12: Dépenses effectuées à destination de tiers à la commune (d'autres institutions, organismes, ménages ..)
A13: Recettes de transfert | F13: Recettes en provenance de tiers ( subsides, taxes, … )
A14: Recettes de prestation | F14: Recettes découlant de services payants rendus par la commune, de locations, de droits d'entrée …
A15: Dépenses de prélèvements | F15: Sommes prélevées sur les excédents budgétaires par la commune pour alimenter des fonds de réserves ordinaires ou extraordinaires (pour financer des dépenses d'investissement sur fonds propres ) ou des provisions ( pour faire face à des charges futures importantes )
A16: Recettes de prélèvements | F16: Utilisation des fonds de réserve et des provisions (constitués au moyen des dépenses de prélèvement)
A17: Ordinaire | F17: Les recettes et dépenses nécessaires au fonctionnement de la commune (taxes, subventions , salaires,électricité,fournitures,…)
A18: Extraordinaire | F18: Les dépenses et leurs moyens de financement afférentes aux investissements ( travaux importants, rénovations, achat de matériel et de véhicules etc … )
